Package: CAFE Version: 1.46.0 Command: /home/biocbuild/bbs-3.22-bioc/R/bin/R CMD INSTALL CAFE StartedAt: 2025-11-11 15:54:29 -0500 (Tue, 11 Nov 2025) EndedAt: 2025-11-11 15:55:26 -0500 (Tue, 11 Nov 2025) EllapsedTime: 57.4 seconds RetCode: 0 Status: OK