Package: CAFE Version: 1.46.0 Command: /home/biocbuild/bbs-3.22-bioc/R/bin/R CMD build --keep-empty-dirs --no-resave-data --md5 CAFE StartedAt: 2025-11-11 16:41:11 -0500 (Tue, 11 Nov 2025) EndedAt: 2025-11-11 16:42:41 -0500 (Tue, 11 Nov 2025) EllapsedTime: 90.1 seconds RetCode: 0 Status: OK PackageFile: CAFE_1.46.0.tar.gz PackageFileSize: 4.63 MiB