Package: CAFE Version: 1.46.0 Command: /Library/Frameworks/R.framework/Resources/bin/R CMD INSTALL CAFE StartedAt: 2025-11-10 15:24:56 -0500 (Mon, 10 Nov 2025) EndedAt: 2025-11-10 15:25:19 -0500 (Mon, 10 Nov 2025) EllapsedTime: 23.0 seconds RetCode: 0 Status: OK