Package: CAFE Version: 1.46.0 Command: /Library/Frameworks/R.framework/Resources/bin/R CMD build --keep-empty-dirs --no-resave-data CAFE StartedAt: 2025-11-10 15:49:25 -0500 (Mon, 10 Nov 2025) EndedAt: 2025-11-10 15:50:03 -0500 (Mon, 10 Nov 2025) EllapsedTime: 38.4 seconds RetCode: 0 Status: OK PackageFile: CAFE_1.46.0.tar.gz PackageFileSize: 4.629 MiB