Package: CAFE Version: 1.46.0 Command: rm -rf CAFE.buildbin-libdir && mkdir CAFE.buildbin-libdir && /Users/biocbuild/BBS/utils/build-universal.sh CAFE_1.46.0.tar.gz /Library/Frameworks/R.framework/Resources/bin/R CAFE.buildbin-libdir StartedAt: 2025-11-10 23:13:29 -0500 (Mon, 10 Nov 2025) EndedAt: 2025-11-10 23:13:54 -0500 (Mon, 10 Nov 2025) EllapsedTime: 25.4 seconds RetCode: 0 Status: OK PackageFile: CAFE_1.46.0.tgz PackageFileSize: 4.688 MiB