Package: CAEN Version: 1.18.0 Command: /home/biocbuild/bbs-3.22-bioc/R/bin/R CMD INSTALL CAEN StartedAt: 2025-11-11 15:42:59 -0500 (Tue, 11 Nov 2025) EndedAt: 2025-11-11 15:43:19 -0500 (Tue, 11 Nov 2025) EllapsedTime: 19.3 seconds RetCode: 0 Status: OK