Package: CAEN Version: 1.18.0 Command: /home/biocbuild/bbs-3.22-bioc/R/bin/R CMD build --keep-empty-dirs --no-resave-data --md5 CAEN StartedAt: 2025-11-11 16:41:06 -0500 (Tue, 11 Nov 2025) EndedAt: 2025-11-11 16:43:12 -0500 (Tue, 11 Nov 2025) EllapsedTime: 126.1 seconds RetCode: 0 Status: OK PackageFile: CAEN_1.18.0.tar.gz PackageFileSize: 989.3 KiB