Package: BumpyMatrix Version: 1.18.0 Command: /home/biocbuild/R/R/bin/R CMD INSTALL BumpyMatrix StartedAt: 2025-11-10 21:20:19 -0000 (Mon, 10 Nov 2025) EndedAt: 2025-11-10 21:20:38 -0000 (Mon, 10 Nov 2025) EllapsedTime: 18.1 seconds RetCode: 0 Status: OK