Package: BumpyMatrix Version: 1.18.0 Command: /home/biocbuild/R/R/bin/R CMD build --keep-empty-dirs --no-resave-data BumpyMatrix StartedAt: 2025-11-11 00:10:13 -0000 (Tue, 11 Nov 2025) EndedAt: 2025-11-11 00:10:44 -0000 (Tue, 11 Nov 2025) EllapsedTime: 31.0 seconds RetCode: 0 Status: OK PackageFile: BumpyMatrix_1.18.0.tar.gz PackageFileSize: 384.6 KiB