Package: BumpyMatrix Version: 1.18.0 Command: /home/biocbuild/bbs-3.22-bioc/R/bin/R CMD build --keep-empty-dirs --no-resave-data --md5 BumpyMatrix StartedAt: 2025-11-11 16:40:19 -0500 (Tue, 11 Nov 2025) EndedAt: 2025-11-11 16:40:42 -0500 (Tue, 11 Nov 2025) EllapsedTime: 23.0 seconds RetCode: 0 Status: OK PackageFile: BumpyMatrix_1.18.0.tar.gz PackageFileSize: 318.5 KiB