Package: BumpyMatrix Version: 1.16.0 Command: /home/biocbuild/bbs-3.21-bioc/R/bin/R CMD INSTALL BumpyMatrix StartedAt: 2025-10-15 15:13:34 -0400 (Wed, 15 Oct 2025) EndedAt: 2025-10-15 15:13:47 -0400 (Wed, 15 Oct 2025) EllapsedTime: 12.5 seconds RetCode: 0 Status: OK