Package: BumpyMatrix Version: 1.16.0 Command: /home/biocbuild/bbs-3.21-bioc/R/bin/R CMD build --keep-empty-dirs --no-resave-data BumpyMatrix StartedAt: 2025-10-15 16:31:58 -0400 (Wed, 15 Oct 2025) EndedAt: 2025-10-15 16:32:20 -0400 (Wed, 15 Oct 2025) EllapsedTime: 22.0 seconds RetCode: 0 Status: OK PackageFile: BumpyMatrix_1.16.0.tar.gz PackageFileSize: 317.6 KiB