Package: BumpyMatrix Version: 1.16.0 Command: /Library/Frameworks/R.framework/Resources/bin/R CMD INSTALL BumpyMatrix StartedAt: 2025-10-13 15:25:40 -0400 (Mon, 13 Oct 2025) EndedAt: 2025-10-13 15:26:17 -0400 (Mon, 13 Oct 2025) EllapsedTime: 36.8 seconds RetCode: 0 Status: OK