Package: BumpyMatrix Version: 1.16.0 Command: rm -rf BumpyMatrix.buildbin-libdir && mkdir BumpyMatrix.buildbin-libdir && /Users/biocbuild/BBS/utils/build-universal.sh BumpyMatrix_1.16.0.tar.gz /Library/Frameworks/R.framework/Resources/bin/R BumpyMatrix.buildbin-libdir StartedAt: 2025-10-14 12:57:28 -0400 (Tue, 14 Oct 2025) EndedAt: 2025-10-14 12:58:00 -0400 (Tue, 14 Oct 2025) EllapsedTime: 32.0 seconds RetCode: 0 Status: OK PackageFile: BumpyMatrix_1.16.0.tgz PackageFileSize: 1.031 MiB