Package: BumpyMatrix Version: 1.18.0 Command: /Library/Frameworks/R.framework/Resources/bin/R CMD check --install=check:BumpyMatrix.install-out.txt --library=/Library/Frameworks/R.framework/Resources/library --no-vignettes --timings BumpyMatrix_1.18.0.tar.gz StartedAt: 2025-11-03 19:56:39 -0500 (Mon, 03 Nov 2025) EndedAt: 2025-11-03 19:58:22 -0500 (Mon, 03 Nov 2025) EllapsedTime: 103.1 seconds RetCode: 0 Status: OK CheckDir: BumpyMatrix.Rcheck Warnings: 0