Package: BumpyMatrix Version: 1.16.0 Command: /home/biocbuild/R/R/bin/R CMD INSTALL BumpyMatrix StartedAt: 2025-10-13 20:26:29 -0000 (Mon, 13 Oct 2025) EndedAt: 2025-10-13 20:26:47 -0000 (Mon, 13 Oct 2025) EllapsedTime: 18.2 seconds RetCode: 0 Status: OK