Package: BumpyMatrix Version: 1.16.0 Command: /home/biocbuild/R/R/bin/R CMD build --keep-empty-dirs --no-resave-data BumpyMatrix StartedAt: 2025-10-13 23:17:50 -0000 (Mon, 13 Oct 2025) EndedAt: 2025-10-13 23:18:23 -0000 (Mon, 13 Oct 2025) EllapsedTime: 33.0 seconds RetCode: 0 Status: OK PackageFile: BumpyMatrix_1.16.0.tar.gz PackageFileSize: 384.7 KiB