Package: BulkSignalR Version: 1.2.1 Command: /home/biocbuild/R/R/bin/R CMD INSTALL BulkSignalR StartedAt: 2025-11-10 22:09:50 -0000 (Mon, 10 Nov 2025) EndedAt: 2025-11-10 22:10:59 -0000 (Mon, 10 Nov 2025) EllapsedTime: 68.1 seconds RetCode: 0 Status: OK