Package: BulkSignalR Version: 1.2.1 Command: /home/biocbuild/R/R/bin/R CMD build --keep-empty-dirs --no-resave-data BulkSignalR StartedAt: 2025-11-11 00:09:28 -0000 (Tue, 11 Nov 2025) EndedAt: 2025-11-11 00:15:20 -0000 (Tue, 11 Nov 2025) EllapsedTime: 352.1 seconds RetCode: 0 Status: OK PackageFile: BulkSignalR_1.2.1.tar.gz PackageFileSize: 2.676 MiB