Package: BulkSignalR Version: 1.2.1 Command: /home/biocbuild/bbs-3.22-bioc/R/bin/R CMD INSTALL BulkSignalR StartedAt: 2025-11-11 16:04:09 -0500 (Tue, 11 Nov 2025) EndedAt: 2025-11-11 16:04:57 -0500 (Tue, 11 Nov 2025) EllapsedTime: 47.8 seconds RetCode: 0 Status: OK