Package: BulkSignalR Version: 1.2.1 Command: /home/biocbuild/bbs-3.22-bioc/R/bin/R CMD check --install=check:BulkSignalR.install-out.txt --library=/home/biocbuild/bbs-3.22-bioc/R/site-library --timings BulkSignalR_1.2.1.tar.gz StartedAt: 2025-11-11 21:48:58 -0500 (Tue, 11 Nov 2025) EndedAt: 2025-11-11 21:59:50 -0500 (Tue, 11 Nov 2025) EllapsedTime: 651.6 seconds RetCode: 0 Status: OK CheckDir: BulkSignalR.Rcheck Warnings: 0