Package: BulkSignalR Version: 1.2.1 Command: /home/biocbuild/bbs-3.22-bioc/R/bin/R CMD build --keep-empty-dirs --no-resave-data --md5 BulkSignalR StartedAt: 2025-11-11 16:40:14 -0500 (Tue, 11 Nov 2025) EndedAt: 2025-11-11 16:44:06 -0500 (Tue, 11 Nov 2025) EllapsedTime: 232.2 seconds RetCode: 0 Status: OK PackageFile: BulkSignalR_1.2.1.tar.gz PackageFileSize: 2.981 MiB