Package: BulkSignalR Version: 1.0.5 Command: /home/biocbuild/bbs-3.21-bioc/R/bin/R CMD build --keep-empty-dirs --no-resave-data BulkSignalR StartedAt: 2025-09-28 16:46:49 -0400 (Sun, 28 Sep 2025) EndedAt: 2025-09-28 16:50:42 -0400 (Sun, 28 Sep 2025) EllapsedTime: 233.2 seconds RetCode: 0 Status: OK PackageFile: BulkSignalR_1.0.5.tar.gz PackageFileSize: 2.983 MiB