Package: BulkSignalR Version: 1.0.0 Command: /Library/Frameworks/R.framework/Resources/bin/R CMD build --keep-empty-dirs --no-resave-data BulkSignalR StartedAt: 2025-04-21 15:47:48 -0400 (Mon, 21 Apr 2025) EndedAt: 2025-04-21 15:49:25 -0400 (Mon, 21 Apr 2025) EllapsedTime: 97.1 seconds RetCode: 0 Status: OK PackageFile: BulkSignalR_1.0.0.tar.gz PackageFileSize: 3.062 MiB