Package: BulkSignalR Version: 1.0.4 Command: /Library/Frameworks/R.framework/Resources/bin/R CMD INSTALL BulkSignalR StartedAt: 2025-09-25 18:30:44 -0400 (Thu, 25 Sep 2025) EndedAt: 2025-09-25 18:31:41 -0400 (Thu, 25 Sep 2025) EllapsedTime: 56.8 seconds RetCode: 0 Status: OK