Package: BulkSignalR Version: 1.0.4 Command: /Library/Frameworks/R.framework/Resources/bin/R CMD build --keep-empty-dirs --no-resave-data BulkSignalR StartedAt: 2025-09-25 20:23:19 -0400 (Thu, 25 Sep 2025) EndedAt: 2025-09-25 20:27:38 -0400 (Thu, 25 Sep 2025) EllapsedTime: 259.5 seconds RetCode: 0 Status: OK PackageFile: BulkSignalR_1.0.4.tar.gz PackageFileSize: 3.074 MiB