Package: BulkSignalR Version: 1.0.4 Command: rm -rf BulkSignalR.buildbin-libdir && mkdir BulkSignalR.buildbin-libdir && /Users/biocbuild/BBS/utils/build-universal.sh BulkSignalR_1.0.4.tar.gz /Library/Frameworks/R.framework/Resources/bin/R BulkSignalR.buildbin-libdir StartedAt: 2025-09-27 16:41:07 -0400 (Sat, 27 Sep 2025) EndedAt: 2025-09-27 16:42:07 -0400 (Sat, 27 Sep 2025) EllapsedTime: 60.7 seconds RetCode: 0 Status: OK PackageFile: BulkSignalR_1.0.4.tgz PackageFileSize: 4.009 MiB