Package: BulkSignalR Version: 1.0.5 Maintainer: Jean-Philippe Villemin MaintainerEmail: jpvillemin at gmail.com git_url: https://git.bioconductor.org/packages/BulkSignalR git_branch: RELEASE_3_21 git_last_commit: 84707b3 git_last_commit_date: 2025-09-27 05:41:27 -0400 (Sat, 27 Sep 2025)