Package: BufferedMatrixMethods Version: 1.74.0 Command: /home/biocbuild/bbs-3.22-bioc/R/bin/R CMD check --install=check:BufferedMatrixMethods.install-out.txt --library=/home/biocbuild/bbs-3.22-bioc/R/site-library --timings BufferedMatrixMethods_1.74.0.tar.gz StartedAt: 2025-11-11 21:48:53 -0500 (Tue, 11 Nov 2025) EndedAt: 2025-11-11 21:49:08 -0500 (Tue, 11 Nov 2025) EllapsedTime: 15.0 seconds RetCode: 0 Status: OK CheckDir: BufferedMatrixMethods.Rcheck Warnings: 0