Package: BufferedMatrix Version: 1.74.0 Command: /home/biocbuild/R/R/bin/R CMD INSTALL BufferedMatrix StartedAt: 2025-11-10 21:03:00 -0000 (Mon, 10 Nov 2025) EndedAt: 2025-11-10 21:03:16 -0000 (Mon, 10 Nov 2025) EllapsedTime: 16.6 seconds RetCode: 0 Status: OK