Package: BufferedMatrix Version: 1.74.0 Command: /home/biocbuild/R/R/bin/R CMD build --keep-empty-dirs --no-resave-data BufferedMatrix StartedAt: 2025-11-11 00:09:15 -0000 (Tue, 11 Nov 2025) EndedAt: 2025-11-11 00:09:27 -0000 (Tue, 11 Nov 2025) EllapsedTime: 12.0 seconds RetCode: 0 Status: OK PackageFile: BufferedMatrix_1.74.0.tar.gz PackageFileSize: 623.4 KiB