Package: BufferedMatrix Version: 1.72.0 Command: /Library/Frameworks/R.framework/Resources/bin/R CMD build --keep-empty-dirs --no-resave-data BufferedMatrix StartedAt: 2025-10-09 17:33:33 -0400 (Thu, 09 Oct 2025) EndedAt: 2025-10-09 17:33:58 -0400 (Thu, 09 Oct 2025) EllapsedTime: 25.0 seconds RetCode: 0 Status: OK PackageFile: BufferedMatrix_1.72.0.tar.gz PackageFileSize: 628.6 KiB