Package: BufferedMatrix Version: 1.72.0 Command: /home/biocbuild/R/R/bin/R CMD INSTALL BufferedMatrix StartedAt: 2025-09-25 20:13:31 -0000 (Thu, 25 Sep 2025) EndedAt: 2025-09-25 20:13:38 -0000 (Thu, 25 Sep 2025) EllapsedTime: 7.4 seconds RetCode: 0 Status: OK