Package: BubbleTree Version: 2.40.0 Command: /home/biocbuild/R/R/bin/R CMD build --keep-empty-dirs --no-resave-data BubbleTree StartedAt: 2025-11-11 00:09:15 -0000 (Tue, 11 Nov 2025) EndedAt: 2025-11-11 00:11:00 -0000 (Tue, 11 Nov 2025) EllapsedTime: 105.0 seconds RetCode: 1 Status: ERROR PackageFile: None PackageFileSize: NA