Package: BubbleTree Version: 2.38.0 Command: rm -rf BubbleTree.buildbin-libdir && mkdir BubbleTree.buildbin-libdir && E:\biocbuild\bbs-3.21-bioc\R\bin\R.exe CMD INSTALL --build --library=BubbleTree.buildbin-libdir BubbleTree_2.38.0.tar.gz StartedAt: 2025-08-15 08:54:08 -0400 (Fri, 15 Aug 2025) EndedAt: 2025-08-15 08:55:30 -0400 (Fri, 15 Aug 2025) EllapsedTime: 82.1 seconds RetCode: 0 Status: OK PackageFile: BubbleTree_2.38.0.zip PackageFileSize: 25.99 MiB