Package: BubbleTree Version: 2.40.0 Command: /home/biocbuild/bbs-3.22-bioc/R/bin/R CMD build --keep-empty-dirs --no-resave-data --md5 BubbleTree StartedAt: 2025-11-11 16:40:09 -0500 (Tue, 11 Nov 2025) EndedAt: 2025-11-11 16:41:26 -0500 (Tue, 11 Nov 2025) EllapsedTime: 77.1 seconds RetCode: 1 Status: ERROR PackageFile: None PackageFileSize: NA