Package: BrowserViz Version: 2.32.0 Command: /home/biocbuild/bbs-3.22-bioc/R/bin/R CMD build --keep-empty-dirs --no-resave-data --md5 BrowserViz StartedAt: 2025-11-11 16:39:55 -0500 (Tue, 11 Nov 2025) EndedAt: 2025-11-11 16:40:02 -0500 (Tue, 11 Nov 2025) EllapsedTime: 7.0 seconds RetCode: 0 Status: OK PackageFile: BrowserViz_2.32.0.tar.gz PackageFileSize: 242.5 KiB