Package: BrowserViz Version: 2.30.0 Command: /home/biocbuild/R/R/bin/R CMD INSTALL BrowserViz StartedAt: 2025-10-06 20:25:10 -0000 (Mon, 06 Oct 2025) EndedAt: 2025-10-06 20:25:14 -0000 (Mon, 06 Oct 2025) EllapsedTime: 4.1 seconds RetCode: 0 Status: OK