Package: BrowserViz Version: 2.30.0 Command: /Library/Frameworks/R.framework/Resources/bin/R CMD build --keep-empty-dirs --no-resave-data BrowserViz StartedAt: 2025-04-21 15:47:31 -0400 (Mon, 21 Apr 2025) EndedAt: 2025-04-21 15:47:34 -0400 (Mon, 21 Apr 2025) EllapsedTime: 3.0 seconds RetCode: 0 Status: OK PackageFile: BrowserViz_2.30.0.tar.gz PackageFileSize: 240.9 KiB