Package: BridgeDbR Version: 2.20.0 Command: /home/biocbuild/R/R/bin/R CMD INSTALL BridgeDbR StartedAt: 2025-11-13 21:04:18 -0000 (Thu, 13 Nov 2025) EndedAt: 2025-11-13 21:04:58 -0000 (Thu, 13 Nov 2025) EllapsedTime: 40.3 seconds RetCode: 0 Status: OK