Package: BridgeDbR Version: 2.20.0 Command: /home/biocbuild/R/R/bin/R CMD build --keep-empty-dirs --no-resave-data BridgeDbR StartedAt: 2025-11-14 00:13:08 -0000 (Fri, 14 Nov 2025) EndedAt: 2025-11-14 00:13:18 -0000 (Fri, 14 Nov 2025) EllapsedTime: 10.0 seconds RetCode: 0 Status: OK PackageFile: BridgeDbR_2.20.0.tar.gz PackageFileSize: 5.158 MiB