Package: BridgeDbR Version: 2.20.0 Command: /home/biocbuild/bbs-3.22-bioc/R/bin/R CMD check --install=check:BridgeDbR.install-out.txt --library=/home/biocbuild/bbs-3.22-bioc/R/site-library --timings BridgeDbR_2.20.0.tar.gz StartedAt: 2025-11-11 21:47:49 -0500 (Tue, 11 Nov 2025) EndedAt: 2025-11-11 21:48:20 -0500 (Tue, 11 Nov 2025) EllapsedTime: 31.0 seconds RetCode: 0 Status: OK CheckDir: BridgeDbR.Rcheck Warnings: 0