Package: BridgeDbR Version: 2.18.0 Command: /home/biocbuild/bbs-3.21-bioc/R/bin/R CMD INSTALL BridgeDbR StartedAt: 2025-10-08 15:03:37 -0400 (Wed, 08 Oct 2025) EndedAt: 2025-10-08 15:03:55 -0400 (Wed, 08 Oct 2025) EllapsedTime: 18.2 seconds RetCode: 0 Status: OK