Package: BridgeDbR Version: 2.18.0 Command: /home/biocbuild/bbs-3.21-bioc/R/bin/R CMD build --keep-empty-dirs --no-resave-data BridgeDbR StartedAt: 2025-10-08 16:31:52 -0400 (Wed, 08 Oct 2025) EndedAt: 2025-10-08 16:31:58 -0400 (Wed, 08 Oct 2025) EllapsedTime: 6.0 seconds RetCode: 0 Status: OK PackageFile: BridgeDbR_2.18.0.tar.gz PackageFileSize: 4.615 MiB