Package: BridgeDbR Version: 2.20.0 Command: /Library/Frameworks/R.framework/Resources/bin/R CMD build --keep-empty-dirs --no-resave-data BridgeDbR StartedAt: 2025-11-24 17:48:12 -0500 (Mon, 24 Nov 2025) EndedAt: 2025-11-24 17:48:32 -0500 (Mon, 24 Nov 2025) EllapsedTime: 20.3 seconds RetCode: 0 Status: OK PackageFile: BridgeDbR_2.20.0.tar.gz PackageFileSize: 5.029 MiB