Package: BridgeDbR Version: 2.18.0 Command: /Library/Frameworks/R.framework/Resources/bin/R CMD INSTALL BridgeDbR StartedAt: 2025-10-09 15:10:04 -0400 (Thu, 09 Oct 2025) EndedAt: 2025-10-09 15:10:09 -0400 (Thu, 09 Oct 2025) EllapsedTime: 4.5 seconds RetCode: 0 Status: OK