Package: BreastSubtypeR Version: 1.0.0 Maintainer: Qiao Yang MaintainerEmail: yq.kiuo at gmail.com git_url: https://git.bioconductor.org/packages/BreastSubtypeR git_branch: RELEASE_3_21 git_last_commit: 83ae68f git_last_commit_date: 2025-04-15 13:52:07 -0400 (Tue, 15 Apr 2025)