Package: BloodGen3Module Version: 1.18.0 Command: /home/biocbuild/R/R/bin/R CMD INSTALL BloodGen3Module StartedAt: 2025-11-10 21:34:15 -0000 (Mon, 10 Nov 2025) EndedAt: 2025-11-10 21:34:58 -0000 (Mon, 10 Nov 2025) EllapsedTime: 43.8 seconds RetCode: 0 Status: OK