Package: BloodGen3Module Version: 1.18.0 Command: /home/biocbuild/R/R/bin/R CMD build --keep-empty-dirs --no-resave-data BloodGen3Module StartedAt: 2025-11-11 00:05:14 -0000 (Tue, 11 Nov 2025) EndedAt: 2025-11-11 00:07:04 -0000 (Tue, 11 Nov 2025) EllapsedTime: 110.0 seconds RetCode: 0 Status: OK PackageFile: BloodGen3Module_1.18.0.tar.gz PackageFileSize: 179.3 KiB