Package: BloodGen3Module Version: 1.16.0 Command: chmod a+r BloodGen3Module -R && E:\biocbuild\bbs-3.21-bioc\R\bin\R.exe CMD build --keep-empty-dirs --no-resave-data BloodGen3Module StartedAt: 2025-08-14 17:44:18 -0400 (Thu, 14 Aug 2025) EndedAt: 2025-08-14 17:45:58 -0400 (Thu, 14 Aug 2025) EllapsedTime: 99.9 seconds RetCode: 0 Status: OK PackageFile: BloodGen3Module_1.16.0.tar.gz PackageFileSize: 179 KiB